BEGIN:VCALENDAR
VERSION:2.0
PRODID:-//SIOPe Brain Tumour Group - ECPv6.15.11//NONSGML v1.0//EN
CALSCALE:GREGORIAN
METHOD:PUBLISH
X-ORIGINAL-URL:https://siope-btg.eu
X-WR-CALDESC:Events for SIOPe Brain Tumour Group
REFRESH-INTERVAL;VALUE=DURATION:PT1H
X-Robots-Tag:noindex
X-PUBLISHED-TTL:PT1H
BEGIN:VTIMEZONE
TZID:UTC
BEGIN:STANDARD
TZOFFSETFROM:+0000
TZOFFSETTO:+0000
TZNAME:UTC
DTSTART:20230101T000000
END:STANDARD
END:VTIMEZONE
BEGIN:VEVENT
DTSTART;TZID=UTC:20250923T000000
DTEND;TZID=UTC:20250927T000000
DTSTAMP:20260419T134319
CREATED:20240615T071106Z
LAST-MODIFIED:20240615T071825Z
UID:277-1758585600-1758931200@siope-btg.eu
SUMMARY:SIOPE BTG annual meeting & educational course 2026
DESCRIPTION:
URL:https://siope-btg.eu/event/siope-btg-annual-meeting-educational-course-2025/
LOCATION:Athens\, Greece
END:VEVENT
BEGIN:VEVENT
DTSTART;TZID=UTC:20241120T070000
DTEND;TZID=UTC:20241122T000000
DTSTAMP:20260419T134319
CREATED:20240609T105706Z
LAST-MODIFIED:20240609T105706Z
UID:258-1732086000-1732233600@siope-btg.eu
SUMMARY:SIOPE 6th European combined neuro-oncology course
DESCRIPTION:
URL:https://siope-btg.eu/event/siope-6th-european-combined-neuro-oncology-course/
LOCATION:Lisbon\, Portugal\, Lisbon\, Portugal
END:VEVENT
BEGIN:VEVENT
DTSTART;TZID=UTC:20240628T070000
DTEND;TZID=UTC:20240702T000000
DTSTAMP:20260419T134319
CREATED:20240609T104701Z
LAST-MODIFIED:20240609T105135Z
UID:251-1719558000-1719878400@siope-btg.eu
SUMMARY:ISPNO and SIOPE BTG annual meeting
DESCRIPTION:
URL:https://siope-btg.eu/event/second-global-meeting-of-the-posterior-fossa-society/
LOCATION:Marlo Thomas Center Auditorium\, Memphis\, TN\, 1201 Market Street\, PA\, Philadelphia\, 19107\, Vereinigte Staaten von Amerika
END:VEVENT
END:VCALENDAR