BEGIN:VCALENDAR
VERSION:2.0
PRODID:-//SIOPe Brain Tumour Group - ECPv6.15.11//NONSGML v1.0//EN
CALSCALE:GREGORIAN
METHOD:PUBLISH
X-WR-CALNAME:SIOPe Brain Tumour Group
X-ORIGINAL-URL:https://siope-btg.eu
X-WR-CALDESC:Events for SIOPe Brain Tumour Group
REFRESH-INTERVAL;VALUE=DURATION:PT1H
X-Robots-Tag:noindex
X-PUBLISHED-TTL:PT1H
BEGIN:VTIMEZONE
TZID:UTC
BEGIN:STANDARD
TZOFFSETFROM:+0000
TZOFFSETTO:+0000
TZNAME:UTC
DTSTART:20270101T000000
END:STANDARD
END:VTIMEZONE
BEGIN:VEVENT
DTSTART;TZID=UTC:20280623T000000
DTEND;TZID=UTC:20280624T235959
DTSTAMP:20260419T153629
CREATED:20251120T183525Z
LAST-MODIFIED:20251129T115422Z
UID:1182-1845331200-1845503999@siope-btg.eu
SUMMARY:SIOPE BTG annual meeting before ISPNO
DESCRIPTION:
URL:https://siope-btg.eu/event/siope-btg-annual-meeting-before-ispno/
LOCATION:Utrecht\, Netherlands
CATEGORIES:SIOPE BTG annual meeting
END:VEVENT
END:VCALENDAR