BEGIN:VCALENDAR
VERSION:2.0
PRODID:-//SIOPe Brain Tumour Group - ECPv6.15.11//NONSGML v1.0//EN
CALSCALE:GREGORIAN
METHOD:PUBLISH
X-WR-CALNAME:SIOPe Brain Tumour Group
X-ORIGINAL-URL:https://siope-btg.eu
X-WR-CALDESC:Events for SIOPe Brain Tumour Group
REFRESH-INTERVAL;VALUE=DURATION:PT1H
X-Robots-Tag:noindex
X-PUBLISHED-TTL:PT1H
BEGIN:VTIMEZONE
TZID:UTC
BEGIN:STANDARD
TZOFFSETFROM:+0000
TZOFFSETTO:+0000
TZNAME:UTC
DTSTART:20250101T000000
END:STANDARD
END:VTIMEZONE
BEGIN:VEVENT
DTSTART;TZID=UTC:20260628T000000
DTEND;TZID=UTC:20260701T235959
DTSTAMP:20260419T135408
CREATED:20251129T115154Z
LAST-MODIFIED:20251129T115329Z
UID:1460-1782604800-1782950399@siope-btg.eu
SUMMARY:ISPNO 2026
DESCRIPTION:(no SIOPE BTG annual meeting included)
URL:https://siope-btg.eu/event/ispno-2026/
LOCATION:Sydney\, Australia
CATEGORIES:Other
END:VEVENT
BEGIN:VEVENT
DTSTART;TZID=UTC:20260924T000000
DTEND;TZID=UTC:20260927T235959
DTSTAMP:20260419T135408
CREATED:20251129T115049Z
LAST-MODIFIED:20251222T112409Z
UID:1457-1790208000-1790553599@siope-btg.eu
SUMMARY:EANO 2026
DESCRIPTION:
URL:https://siope-btg.eu/event/eano-2026/
LOCATION:Rome\, Italy
CATEGORIES:Other
END:VEVENT
END:VCALENDAR